BEGIN:VCALENDAR
VERSION:2.0
PRODID:-//Bourkevale Community Centre - ECPv6.15.18//NONSGML v1.0//EN
CALSCALE:GREGORIAN
METHOD:PUBLISH
X-WR-CALNAME:Bourkevale Community Centre
X-ORIGINAL-URL:https://bourkevale.com
X-WR-CALDESC:Events for Bourkevale Community Centre
REFRESH-INTERVAL;VALUE=DURATION:PT1H
X-Robots-Tag:noindex
X-PUBLISHED-TTL:PT1H
BEGIN:VTIMEZONE
TZID:America/Winnipeg
BEGIN:DAYLIGHT
TZOFFSETFROM:-0600
TZOFFSETTO:-0500
TZNAME:CDT
DTSTART:20250309T080000
END:DAYLIGHT
BEGIN:STANDARD
TZOFFSETFROM:-0500
TZOFFSETTO:-0600
TZNAME:CST
DTSTART:20251102T070000
END:STANDARD
BEGIN:DAYLIGHT
TZOFFSETFROM:-0600
TZOFFSETTO:-0500
TZNAME:CDT
DTSTART:20260308T080000
END:DAYLIGHT
BEGIN:STANDARD
TZOFFSETFROM:-0500
TZOFFSETTO:-0600
TZNAME:CST
DTSTART:20261101T070000
END:STANDARD
BEGIN:DAYLIGHT
TZOFFSETFROM:-0600
TZOFFSETTO:-0500
TZNAME:CDT
DTSTART:20270314T080000
END:DAYLIGHT
BEGIN:STANDARD
TZOFFSETFROM:-0500
TZOFFSETTO:-0600
TZNAME:CST
DTSTART:20271107T070000
END:STANDARD
END:VTIMEZONE
BEGIN:VEVENT
DTSTART;TZID=America/Winnipeg:20260421T190000
DTEND;TZID=America/Winnipeg:20260421T200000
DTSTAMP:20260421T020717
CREATED:20240904T012737Z
LAST-MODIFIED:20241205T034729Z
UID:10000252-1776798000-1776801600@bourkevale.com
SUMMARY:Yoga
DESCRIPTION:Slow flow yoga with restorative pauses. Please bring your own mat..
URL:https://bourkevale.com/event/yoga-7/2026-04-21/
LOCATION:Bourkevale Community Centre\, 100 Ferry Rd\, Winnipeg\, Manitoba\, R3J 1V7\, Canada
ATTACH;FMTTYPE=image/jpeg:https://bourkevale.com/wp-content/uploads/2023/12/junseong-lee-G9H5edUL0T8-unsplash.jpg
GEO:49.874634018803;-97.219599317743
X-APPLE-STRUCTURED-LOCATION;VALUE=URI;X-ADDRESS=Bourkevale Community Centre 100 Ferry Rd Winnipeg Manitoba R3J 1V7 Canada;X-APPLE-RADIUS=500;X-TITLE=100 Ferry Rd:geo:-97.219599317743,49.874634018803
END:VEVENT
END:VCALENDAR