BEGIN:VCALENDAR
VERSION:2.0
PRODID:-//Bourkevale Community Centre - ECPv6.15.18//NONSGML v1.0//EN
CALSCALE:GREGORIAN
METHOD:PUBLISH
X-WR-CALNAME:Bourkevale Community Centre
X-ORIGINAL-URL:https://bourkevale.com
X-WR-CALDESC:Events for Bourkevale Community Centre
REFRESH-INTERVAL;VALUE=DURATION:PT1H
X-Robots-Tag:noindex
X-PUBLISHED-TTL:PT1H
BEGIN:VTIMEZONE
TZID:America/Winnipeg
BEGIN:DAYLIGHT
TZOFFSETFROM:-0600
TZOFFSETTO:-0500
TZNAME:CDT
DTSTART:20250309T080000
END:DAYLIGHT
BEGIN:STANDARD
TZOFFSETFROM:-0500
TZOFFSETTO:-0600
TZNAME:CST
DTSTART:20251102T070000
END:STANDARD
BEGIN:DAYLIGHT
TZOFFSETFROM:-0600
TZOFFSETTO:-0500
TZNAME:CDT
DTSTART:20260308T080000
END:DAYLIGHT
BEGIN:STANDARD
TZOFFSETFROM:-0500
TZOFFSETTO:-0600
TZNAME:CST
DTSTART:20261101T070000
END:STANDARD
BEGIN:DAYLIGHT
TZOFFSETFROM:-0600
TZOFFSETTO:-0500
TZNAME:CDT
DTSTART:20270314T080000
END:DAYLIGHT
BEGIN:STANDARD
TZOFFSETFROM:-0500
TZOFFSETTO:-0600
TZNAME:CST
DTSTART:20271107T070000
END:STANDARD
END:VTIMEZONE
BEGIN:VEVENT
DTSTART;TZID=America/Winnipeg:20260410T190000
DTEND;TZID=America/Winnipeg:20260410T200000
DTSTAMP:20260423T054522
CREATED:20251128T021658Z
LAST-MODIFIED:20251128T021659Z
UID:10002899-1775847600-1775851200@bourkevale.com
SUMMARY:Reiki Talk & Experience
DESCRIPTION:Interested in Reiki?Curious about how it works\, and how it can help you? \n\n\n\nJoin Reiki Master TeacherRosalind Boning\,of Winnipeg’s Healings for Beings\, for an hour of Reiki Experiences\, Relaxation & Inspiration. \n\n\n\nPre-registration is also recommended through healingsforbeings.com.
URL:https://bourkevale.com/event/reiki-talk-experience-4/
ATTACH;FMTTYPE=image/png:https://bourkevale.com/wp-content/uploads/2025/11/Morning-Reiki-Talk-Experience-no-date-.png
END:VEVENT
END:VCALENDAR