BEGIN:VCALENDAR
VERSION:2.0
PRODID:-//Bourkevale Community Centre - ECPv6.15.18//NONSGML v1.0//EN
CALSCALE:GREGORIAN
METHOD:PUBLISH
X-ORIGINAL-URL:https://bourkevale.com
X-WR-CALDESC:Events for Bourkevale Community Centre
REFRESH-INTERVAL;VALUE=DURATION:PT1H
X-Robots-Tag:noindex
X-PUBLISHED-TTL:PT1H
BEGIN:VTIMEZONE
TZID:America/Winnipeg
BEGIN:DAYLIGHT
TZOFFSETFROM:-0600
TZOFFSETTO:-0500
TZNAME:CDT
DTSTART:20250309T080000
END:DAYLIGHT
BEGIN:STANDARD
TZOFFSETFROM:-0500
TZOFFSETTO:-0600
TZNAME:CST
DTSTART:20251102T070000
END:STANDARD
BEGIN:DAYLIGHT
TZOFFSETFROM:-0600
TZOFFSETTO:-0500
TZNAME:CDT
DTSTART:20260308T080000
END:DAYLIGHT
BEGIN:STANDARD
TZOFFSETFROM:-0500
TZOFFSETTO:-0600
TZNAME:CST
DTSTART:20261101T070000
END:STANDARD
BEGIN:DAYLIGHT
TZOFFSETFROM:-0600
TZOFFSETTO:-0500
TZNAME:CDT
DTSTART:20270314T080000
END:DAYLIGHT
BEGIN:STANDARD
TZOFFSETFROM:-0500
TZOFFSETTO:-0600
TZNAME:CST
DTSTART:20271107T070000
END:STANDARD
END:VTIMEZONE
BEGIN:VEVENT
DTSTART;TZID=America/Winnipeg:20260316T100000
DTEND;TZID=America/Winnipeg:20260316T110000
DTSTAMP:20260424T081006
CREATED:20240817T173033Z
LAST-MODIFIED:20241205T035211Z
UID:10000507-1773655200-1773658800@bourkevale.com
SUMMARY:Zumba Gold Classes (55+)
DESCRIPTION:
URL:https://bourkevale.com/event/zumba-gold-classes-55-2/2026-03-16/
LOCATION:Bourkevale Community Centre\, 100 Ferry Rd\, Winnipeg\, Manitoba\, R3J 1V7\, Canada
ATTACH;FMTTYPE=image/jpeg:https://bourkevale.com/wp-content/uploads/2023/12/zumbagold.jpg
GEO:49.874634018803;-97.219599317743
X-APPLE-STRUCTURED-LOCATION;VALUE=URI;X-ADDRESS=Bourkevale Community Centre 100 Ferry Rd Winnipeg Manitoba R3J 1V7 Canada;X-APPLE-RADIUS=500;X-TITLE=100 Ferry Rd:geo:-97.219599317743,49.874634018803
END:VEVENT
BEGIN:VEVENT
DTSTART;TZID=America/Winnipeg:20260316T183000
DTEND;TZID=America/Winnipeg:20260316T193000
DTSTAMP:20260424T081006
CREATED:20260112T005430Z
LAST-MODIFIED:20260121T142311Z
UID:10002918-1773685800-1773689400@bourkevale.com
SUMMARY:Kids Hockey
DESCRIPTION:Children aged 4-9 are invited to join for FREE weekly sessions running every Monday at 6:30-7:30 PM from January 12th to March 23rd (excluding Louis Riel Day). \n\n\n\nThese casual sessions will be focused on basic skating and puck handling drills as well as possible scrimmages.  Participants must provide their own helmets and may bring their own skates or borrow from Bourkevale’s skate library (subject to availability)  \n\n\n\nPlease reach out to mail to: hockey@bourkevale.com to register or feel free to simply drop in.
URL:https://bourkevale.com/event/kids-hockey/2026-03-16/
CATEGORIES:kids hockey
ATTACH;FMTTYPE=image/jpeg:https://bourkevale.com/wp-content/uploads/2024/01/EuUg2qaXIAQSMKU.jpeg
END:VEVENT
END:VCALENDAR